BEGIN:VCALENDAR
VERSION:2.0
PRODID:-//Tukios.com/
BEGIN:VEVENT
UID:4f3a7ce3-9890-4165-a6dc-0dcc7885d72c@www.hallkokotovichfuneralhome.com
DTSTAMP:20260420T085508Z
DTSTART:20260421T150000Z
DTEND:20260421T160000Z
SUMMARY:Funeral Service
DESCRIPTION:
URL:https://www.hallkokotovichfuneralhome.com/obituaries/joyce-russell
LOCATION: 150 West Brown Street  Beaverton MI 48612
GEO:43.8824436;-84.490204
END:VEVENT
END:VCALENDAR