BEGIN:VCALENDAR
VERSION:2.0
PRODID:-//Tukios.com/
BEGIN:VEVENT
UID:4cffd2c3-edb7-413a-b37f-935d5f519b90@www.hallkokotovichfuneralhome.com
DTSTAMP:20260420T090001Z
DTSTART:20260421T140000Z
DTEND:20260421T150000Z
SUMMARY:Visitation
DESCRIPTION:
URL:https://www.hallkokotovichfuneralhome.com/obituaries/joyce-russell
LOCATION: 150 West Brown Street  Beaverton MI 48612
GEO:43.8824436;-84.490204
END:VEVENT
END:VCALENDAR