BEGIN:VCALENDAR
VERSION:2.0
PRODID:-//Tukios.com/
BEGIN:VEVENT
UID:e62f8a3a-c323-40c5-a0ea-ab27a01ec587@www.hallkokotovichfuneralhome.com
DTSTAMP:20260420T085902Z
DTSTART:20260420T200000Z
DTEND:20260421T000000Z
SUMMARY:Visitation
DESCRIPTION:
URL:https://www.hallkokotovichfuneralhome.com/obituaries/joyce-russell
LOCATION: 430 Ross St  Beaverton MI 48612
GEO:43.8775011;-84.4858543
END:VEVENT
END:VCALENDAR